BEGIN:VCALENDAR
VERSION:2.0
PRODID:-//Beyond Open Water - ECPv4.6.11.1//NONSGML v1.0//EN
CALSCALE:GREGORIAN
METHOD:PUBLISH
X-WR-CALNAME:Beyond Open Water
X-ORIGINAL-URL:https://beyondopenwater.com
X-WR-CALDESC:Events for Beyond Open Water
BEGIN:VEVENT
DTSTART;TZID=America/New_York:20230811T080000
DTEND;TZID=America/New_York:20230812T170000
DTSTAMP:20260422T021745
CREATED:20230618T054021Z
LAST-MODIFIED:20230618T054021Z
UID:1983-1691740800-1691859600@beyondopenwater.com
SUMMARY:Side Mount class x2
DESCRIPTION:In conjunction with Oahu Travel Divers \n
URL:https://beyondopenwater.com/event/side-mount-class-x2/
END:VEVENT
END:VCALENDAR