BEGIN:VCALENDAR
VERSION:2.0
PRODID:-//Beyond Open Water - ECPv4.6.11.1//NONSGML v1.0//EN
CALSCALE:GREGORIAN
METHOD:PUBLISH
X-WR-CALNAME:Beyond Open Water
X-ORIGINAL-URL:https://beyondopenwater.com
X-WR-CALDESC:Events for Beyond Open Water
BEGIN:VEVENT
DTSTART;TZID=America/New_York:20230616T070000
DTEND;TZID=America/New_York:20230618T103000
DTSTAMP:20260422T052306
CREATED:20230522T052153Z
LAST-MODIFIED:20230522T052153Z
UID:1971-1686898800-1687084200@beyondopenwater.com
SUMMARY:Extended Range
DESCRIPTION:17 June Friend Ship \n16 & 18 1+1 \n
URL:https://beyondopenwater.com/event/extended-range/
END:VEVENT
BEGIN:VEVENT
DTSTART;TZID=America/New_York:20230617T080000
DTEND;TZID=America/New_York:20230617T170000
DTSTAMP:20260422T052306
CREATED:20230220T042420Z
LAST-MODIFIED:20230220T042420Z
UID:1857-1686988800-1687021200@beyondopenwater.com
SUMMARY:Instructor Trainer Workshop (ITW)
DESCRIPTION:Become a DAN Instructor or an Instructor Trainer \n \n
URL:https://beyondopenwater.com/event/instructor-trainer-workshop-itw/
END:VEVENT
END:VCALENDAR