BEGIN:VCALENDAR
VERSION:2.0
PRODID:-//Beyond Open Water - ECPv4.6.11.1//NONSGML v1.0//EN
CALSCALE:GREGORIAN
METHOD:PUBLISH
X-WR-CALNAME:Beyond Open Water
X-ORIGINAL-URL:https://beyondopenwater.com
X-WR-CALDESC:Events for Beyond Open Water
BEGIN:VEVENT
DTSTART;TZID=America/New_York:20230408T070000
DTEND;TZID=America/New_York:20230408T110000
DTSTAMP:20260422T102428
CREATED:20230407T164815Z
LAST-MODIFIED:20230407T164815Z
UID:1899-1680937200-1680951600@beyondopenwater.com
SUMMARY:Boat Dive
DESCRIPTION:
URL:https://beyondopenwater.com/event/boat-dive/
END:VEVENT
BEGIN:VEVENT
DTSTART;TZID=America/New_York:20230408T080000
DTEND;TZID=America/New_York:20230408T170000
DTSTAMP:20260422T102428
CREATED:20230220T042320Z
LAST-MODIFIED:20230220T042320Z
UID:1855-1680940800-1680973200@beyondopenwater.com
SUMMARY:DAN Instructor Trainer Workshop (ITW)
DESCRIPTION:Become a DAN Instructor or an Instructor Trainer \n \n
URL:https://beyondopenwater.com/event/dan-instructor-trainer-workshop-itw/
END:VEVENT
END:VCALENDAR