BEGIN:VCALENDAR
VERSION:2.0
PRODID:-//Beyond Open Water - ECPv4.6.11.1//NONSGML v1.0//EN
CALSCALE:GREGORIAN
METHOD:PUBLISH
X-WR-CALNAME:Beyond Open Water
X-ORIGINAL-URL:https://beyondopenwater.com
X-WR-CALDESC:Events for Beyond Open Water
BEGIN:VEVENT
DTSTART;TZID=America/New_York:20221217T070000
DTEND;TZID=America/New_York:20221218T103000
DTSTAMP:20260425T135950
CREATED:20221115T162354Z
LAST-MODIFIED:20221118T045052Z
UID:1719-1671260400-1671359400@beyondopenwater.com
SUMMARY:Tec Side Mount 3&4
DESCRIPTION:
URL:https://beyondopenwater.com/event/tec-side-mount/
END:VEVENT
END:VCALENDAR