BEGIN:VCALENDAR
VERSION:2.0
PRODID:-//Beyond Open Water - ECPv4.6.11.1//NONSGML v1.0//EN
CALSCALE:GREGORIAN
METHOD:PUBLISH
X-WR-CALNAME:Beyond Open Water
X-ORIGINAL-URL:https://beyondopenwater.com
X-WR-CALDESC:Events for Beyond Open Water
BEGIN:VEVENT
DTSTART;TZID=America/New_York:20160406T190000
DTEND;TZID=America/New_York:20160406T210000
DTSTAMP:20260421T014506
CREATED:20160123T152129Z
LAST-MODIFIED:20160207T155355Z
UID:618-1459969200-1459976400@beyondopenwater.com
SUMMARY:Travel Night
DESCRIPTION:
URL:https://beyondopenwater.com/event/travel-night/
LOCATION:214 Dominion Rd. NE \, Vienna\, VA\, 22180\, United States
END:VEVENT
END:VCALENDAR