BEGIN:VCALENDAR
VERSION:2.0
PRODID:-//Beyond Open Water - ECPv4.6.11.1//NONSGML v1.0//EN
CALSCALE:GREGORIAN
METHOD:PUBLISH
X-WR-CALNAME:Beyond Open Water
X-ORIGINAL-URL:https://beyondopenwater.com
X-WR-CALDESC:Events for Beyond Open Water
BEGIN:VEVENT
DTSTART;VALUE=DATE:20170610
DTEND;VALUE=DATE:20170619
DTSTAMP:20260420T024451
CREATED:20170215T001543Z
LAST-MODIFIED:20170215T001543Z
UID:937-1497052800-1497830399@beyondopenwater.com
SUMMARY:TekWrek Week
DESCRIPTION:
URL:https://beyondopenwater.com/event/tekwrek-week/
LOCATION:47 Garden Cove Drive\, Key Largo\, FL\, 33037\, United States
END:VEVENT
END:VCALENDAR