BEGIN:VCALENDAR
VERSION:2.0
PRODID:-//Beyond Open Water - ECPv4.6.11.1//NONSGML v1.0//EN
CALSCALE:GREGORIAN
METHOD:PUBLISH
X-WR-CALNAME:Beyond Open Water
X-ORIGINAL-URL:https://beyondopenwater.com
X-WR-CALDESC:Events for Beyond Open Water
BEGIN:VEVENT
DTSTART;TZID=America/New_York:20220122T080000
DTEND;TZID=America/New_York:20220123T170000
DTSTAMP:20260419T211559
CREATED:20220109T152651Z
LAST-MODIFIED:20220109T152651Z
UID:1347-1642838400-1642957200@beyondopenwater.com
SUMMARY:TecSide
DESCRIPTION:
URL:https://beyondopenwater.com/event/tecside/
END:VEVENT
END:VCALENDAR