BEGIN:VCALENDAR
VERSION:2.0
PRODID:-//Beyond Open Water - ECPv4.6.11.1//NONSGML v1.0//EN
CALSCALE:GREGORIAN
METHOD:PUBLISH
X-WR-CALNAME:Beyond Open Water
X-ORIGINAL-URL:https://beyondopenwater.com
X-WR-CALDESC:Events for Beyond Open Water
BEGIN:VEVENT
DTSTART;TZID=America/New_York:20220109T080000
DTEND;TZID=America/New_York:20220109T170000
DTSTAMP:20260419T173259
CREATED:20220101T002347Z
LAST-MODIFIED:20220101T002557Z
UID:1221-1641715200-1641747600@beyondopenwater.com
SUMMARY:Tec Training
DESCRIPTION:Tec 40 Dive #2 & 3 \nIntegrated with Tec 45 #2 \n
URL:https://beyondopenwater.com/event/tec-training/
END:VEVENT
END:VCALENDAR