BEGIN:VCALENDAR
VERSION:2.0
PRODID:-//Beyond Open Water - ECPv4.6.11.1//NONSGML v1.0//EN
CALSCALE:GREGORIAN
METHOD:PUBLISH
X-WR-CALNAME:Beyond Open Water
X-ORIGINAL-URL:https://beyondopenwater.com
X-WR-CALDESC:Events for Beyond Open Water
BEGIN:VEVENT
DTSTART;TZID=America/New_York:20220116T103000
DTEND;TZID=America/New_York:20220116T130000
DTSTAMP:20260420T021816
CREATED:20220101T003249Z
LAST-MODIFIED:20220109T212546Z
UID:1231-1642329000-1642338000@beyondopenwater.com
SUMMARY:Tec Training
DESCRIPTION:Tec 50 #2 40-80 \n  \n
URL:https://beyondopenwater.com/event/tec-training-5/
END:VEVENT
END:VCALENDAR