BEGIN:VCALENDAR
VERSION:2.0
PRODID:-//Beyond Open Water - ECPv4.6.11.1//NONSGML v1.0//EN
CALSCALE:GREGORIAN
METHOD:PUBLISH
X-WR-CALNAME:Beyond Open Water
X-ORIGINAL-URL:https://beyondopenwater.com
X-WR-CALDESC:Events for Beyond Open Water
BEGIN:VEVENT
DTSTART;TZID=America/New_York:20220115T070000
DTEND;TZID=America/New_York:20220115T110000
DTSTAMP:20260419T224309
CREATED:20220101T003147Z
LAST-MODIFIED:20220109T212515Z
UID:1229-1642230000-1642244400@beyondopenwater.com
SUMMARY:Tec Training
DESCRIPTION:Tec 40 #4 integrated with Tec 45 #3 (85-130) \nTec 45 #4 90-145 (deco) \n  \n  \n  \n
URL:https://beyondopenwater.com/event/tec-training-4/
END:VEVENT
END:VCALENDAR