BEGIN:VCALENDAR
VERSION:2.0
PRODID:-//Beyond Open Water - ECPv4.6.11.1//NONSGML v1.0//EN
CALSCALE:GREGORIAN
METHOD:PUBLISH
X-WR-CALNAME:Beyond Open Water
X-ORIGINAL-URL:https://beyondopenwater.com
X-WR-CALDESC:Events for Beyond Open Water
BEGIN:VEVENT
DTSTART;TZID=America/New_York:20220409T080000
DTEND;TZID=America/New_York:20220411T170000
DTSTAMP:20260419T205517
CREATED:20220118T042025Z
LAST-MODIFIED:20220331T054653Z
UID:1380-1649491200-1649696400@beyondopenwater.com
SUMMARY:TEC DIVES-0700
DESCRIPTION:
URL:https://beyondopenwater.com/event/tec-dives/
END:VEVENT
END:VCALENDAR