BEGIN:VCALENDAR
VERSION:2.0
PRODID:-//Beyond Open Water - ECPv4.6.11.1//NONSGML v1.0//EN
CALSCALE:GREGORIAN
METHOD:PUBLISH
X-WR-CALNAME:Beyond Open Water
X-ORIGINAL-URL:https://beyondopenwater.com
X-WR-CALDESC:Events for Beyond Open Water
BEGIN:VEVENT
DTSTART;TZID=America/New_York:20220517T080000
DTEND;TZID=America/New_York:20220517T140000
DTSTAMP:20260420T005443
CREATED:20211210T003440Z
LAST-MODIFIED:20211210T003440Z
UID:1185-1652774400-1652796000@beyondopenwater.com
SUMMARY:Tec 40 & 45
DESCRIPTION:Confined water \n
URL:https://beyondopenwater.com/event/tec-40-45/
END:VEVENT
END:VCALENDAR