BEGIN:VCALENDAR
VERSION:2.0
PRODID:-//Beyond Open Water - ECPv4.6.11.1//NONSGML v1.0//EN
CALSCALE:GREGORIAN
METHOD:PUBLISH
X-WR-CALNAME:Beyond Open Water
X-ORIGINAL-URL:https://beyondopenwater.com
X-WR-CALDESC:Events for Beyond Open Water
BEGIN:VEVENT
DTSTART;TZID=America/New_York:20220519T080000
DTEND;TZID=America/New_York:20220519T170000
DTSTAMP:20260419T225732
CREATED:20211210T003708Z
LAST-MODIFIED:20211210T003708Z
UID:1189-1652947200-1652979600@beyondopenwater.com
SUMMARY:Tec 40 & 45
DESCRIPTION:Boat dives \n
URL:https://beyondopenwater.com/event/tec-40-45-3/
END:VEVENT
END:VCALENDAR