BEGIN:VCALENDAR
VERSION:2.0
PRODID:-//Beyond Open Water - ECPv4.6.11.1//NONSGML v1.0//EN
CALSCALE:GREGORIAN
METHOD:PUBLISH
X-WR-CALNAME:Beyond Open Water
X-ORIGINAL-URL:https://beyondopenwater.com
X-WR-CALDESC:Events for Beyond Open Water
BEGIN:VEVENT
DTSTART;TZID=America/New_York:20220415T070000
DTEND;TZID=America/New_York:20220416T103000
DTSTAMP:20260419T212012
CREATED:20220323T044251Z
LAST-MODIFIED:20220331T054946Z
UID:1428-1650006000-1650105000@beyondopenwater.com
SUMMARY:TDI Extended Range 0700
DESCRIPTION:
URL:https://beyondopenwater.com/event/tdi-extended-range/
END:VEVENT
END:VCALENDAR