BEGIN:VCALENDAR
VERSION:2.0
PRODID:-//Beyond Open Water - ECPv4.6.11.1//NONSGML v1.0//EN
CALSCALE:GREGORIAN
METHOD:PUBLISH
X-WR-CALNAME:Beyond Open Water
X-ORIGINAL-URL:https://beyondopenwater.com
X-WR-CALDESC:Events for Beyond Open Water
BEGIN:VEVENT
DTSTART;TZID=America/New_York:20170212T160000
DTEND;TZID=America/New_York:20170212T200000
DTSTAMP:20260422T101023
CREATED:20170121T223550Z
LAST-MODIFIED:20170206T010807Z
UID:922-1486915200-1486929600@beyondopenwater.com
SUMMARY:Staff Work Shop
DESCRIPTION:
URL:https://beyondopenwater.com/event/staff-work-shop/
LOCATION:214 Dominion Rd. NE \, Vienna\, VA\, 22180\, United States
END:VEVENT
END:VCALENDAR