BEGIN:VCALENDAR
VERSION:2.0
PRODID:-//Beyond Open Water - ECPv4.6.11.1//NONSGML v1.0//EN
CALSCALE:GREGORIAN
METHOD:PUBLISH
X-WR-CALNAME:Beyond Open Water
X-ORIGINAL-URL:https://beyondopenwater.com
X-WR-CALDESC:Events for Beyond Open Water
BEGIN:VEVENT
DTSTART;TZID=America/New_York:20161210T090000
DTEND;TZID=America/New_York:20161210T110000
DTSTAMP:20260422T095800
CREATED:20161117T003033Z
LAST-MODIFIED:20161117T003033Z
UID:830-1481360400-1481367600@beyondopenwater.com
SUMMARY:Staff Meeting
DESCRIPTION:Reston Association \n
URL:https://beyondopenwater.com/event/staff-meeting-2/
END:VEVENT
END:VCALENDAR