BEGIN:VCALENDAR
VERSION:2.0
PRODID:-//Beyond Open Water - ECPv4.6.11.1//NONSGML v1.0//EN
CALSCALE:GREGORIAN
METHOD:PUBLISH
X-WR-CALNAME:Beyond Open Water
X-ORIGINAL-URL:https://beyondopenwater.com
X-WR-CALDESC:Events for Beyond Open Water
BEGIN:VEVENT
DTSTART;TZID=America/New_York:20160826T180000
DTEND;TZID=America/New_York:20160828T170000
DTSTAMP:20260420T210232
CREATED:20160725T000643Z
LAST-MODIFIED:20160725T000643Z
UID:777-1472234400-1472403600@beyondopenwater.com
SUMMARY:Special IDC
DESCRIPTION:
URL:https://beyondopenwater.com/event/special-idc/
LOCATION:Sterling
END:VEVENT
END:VCALENDAR