BEGIN:VCALENDAR
VERSION:2.0
PRODID:-//Beyond Open Water - ECPv4.6.11.1//NONSGML v1.0//EN
CALSCALE:GREGORIAN
METHOD:PUBLISH
X-WR-CALNAME:Beyond Open Water
X-ORIGINAL-URL:https://beyondopenwater.com
X-WR-CALDESC:Events for Beyond Open Water
BEGIN:VEVENT
DTSTART;TZID=America/New_York:20160423T150000
DTEND;TZID=America/New_York:20160423T190000
DTSTAMP:20260420T222430
CREATED:20160329T231836Z
LAST-MODIFIED:20160329T231946Z
UID:724-1461423600-1461438000@beyondopenwater.com
SUMMARY:Skills with David
DESCRIPTION:
URL:https://beyondopenwater.com/event/skills-with-david/
LOCATION:Sterling
END:VEVENT
END:VCALENDAR