BEGIN:VCALENDAR
VERSION:2.0
PRODID:-//Beyond Open Water - ECPv4.6.11.1//NONSGML v1.0//EN
CALSCALE:GREGORIAN
METHOD:PUBLISH
X-WR-CALNAME:Beyond Open Water
X-ORIGINAL-URL:https://beyondopenwater.com
X-WR-CALDESC:Events for Beyond Open Water
BEGIN:VEVENT
DTSTART;TZID=America/New_York:20221009T070000
DTEND;TZID=America/New_York:20221010T170000
DTSTAMP:20260419T172128
CREATED:20220829T050845Z
LAST-MODIFIED:20220829T050845Z
UID:1566-1665298800-1665421200@beyondopenwater.com
SUMMARY:Recreational SideMount
DESCRIPTION:Want o join in on the fun? \nClick Here \n
URL:https://beyondopenwater.com/event/recreational-sidemount/
END:VEVENT
END:VCALENDAR