BEGIN:VCALENDAR
VERSION:2.0
PRODID:-//Beyond Open Water - ECPv4.6.11.1//NONSGML v1.0//EN
CALSCALE:GREGORIAN
METHOD:PUBLISH
X-WR-CALNAME:Beyond Open Water
X-ORIGINAL-URL:https://beyondopenwater.com
X-WR-CALDESC:Events for Beyond Open Water
BEGIN:VEVENT
DTSTART;TZID=America/New_York:20160316T190000
DTEND;TZID=America/New_York:20160316T210000
DTSTAMP:20260421T014447
CREATED:20160123T151912Z
LAST-MODIFIED:20160123T152016Z
UID:617-1458154800-1458162000@beyondopenwater.com
SUMMARY:Pro Night
DESCRIPTION:Learn what it takes to become a PADI Pro. \nInformation on becoming a Dive Master\, an Assistant Instructor and an Open Water Instructor. \n
URL:https://beyondopenwater.com/event/pro-night/
LOCATION:214 Dominion Rd. NE \, Vienna\, VA\, 22180\, United States
ATTACH;FMTTYPE=image/jpeg:https://beyondopenwater.com/wp-content/uploads/2015/12/PADILogo-L1.jpg
ORGANIZER;CN="Kevin%20Davenport":MAILTO:training@beyondopenwater.com
END:VEVENT
END:VCALENDAR