BEGIN:VCALENDAR
VERSION:2.0
PRODID:-//Beyond Open Water - ECPv4.6.11.1//NONSGML v1.0//EN
CALSCALE:GREGORIAN
METHOD:PUBLISH
X-WR-CALNAME:Beyond Open Water
X-ORIGINAL-URL:https://beyondopenwater.com
X-WR-CALDESC:Events for Beyond Open Water
BEGIN:VEVENT
DTSTART;TZID=America/New_York:20160209T180000
DTEND;TZID=America/New_York:20160209T190000
DTSTAMP:20260421T001600
CREATED:20160129T144351Z
LAST-MODIFIED:20160129T144351Z
UID:642-1455040800-1455044400@beyondopenwater.com
SUMMARY:PADI Update
DESCRIPTION:Now 10-12 Year Olds Can Use PADI Digital Products\n2016 PADI Instructor Manual\nAttention Course Directors – IDC Revision\nAlternate Air Source Use Skill\nAre You Missing Something?\nNew CPR Guidelines for EFR® and PADI Courses\nPADI FreediverTM Program \n
URL:https://beyondopenwater.com/event/padi-update/
END:VEVENT
END:VCALENDAR