BEGIN:VCALENDAR
VERSION:2.0
PRODID:-//Beyond Open Water - ECPv4.6.11.1//NONSGML v1.0//EN
CALSCALE:GREGORIAN
METHOD:PUBLISH
X-WR-CALNAME:Beyond Open Water
X-ORIGINAL-URL:https://beyondopenwater.com
X-WR-CALDESC:Events for Beyond Open Water
BEGIN:VEVENT
DTSTART;TZID=America/New_York:20220924T080000
DTEND;TZID=America/New_York:20220925T170000
DTSTAMP:20260419T190128
CREATED:20220829T050648Z
LAST-MODIFIED:20220829T050648Z
UID:1564-1664006400-1664125200@beyondopenwater.com
SUMMARY:PADI IE-Honolulu
DESCRIPTION:What to expect at the PADI instructor exam (IE)\nThe PADI instructor exam or IE is usually spread over 2 days. \nThe exam is conducted by a PADI Instructor Examiner\, the instructor exam schedule can be found here. \nThe IE is split into 4 components: \n1.      Written Exams \n2.      Classroom presentation \n3.      Confined water teaching \n4.      Open water teaching \n
URL:https://beyondopenwater.com/event/padi-ie-honolulu/
END:VEVENT
END:VCALENDAR