BEGIN:VCALENDAR
VERSION:2.0
PRODID:-//Beyond Open Water - ECPv4.6.11.1//NONSGML v1.0//EN
CALSCALE:GREGORIAN
METHOD:PUBLISH
X-WR-CALNAME:Beyond Open Water
X-ORIGINAL-URL:https://beyondopenwater.com
X-WR-CALDESC:Events for Beyond Open Water
BEGIN:VEVENT
DTSTART;TZID=America/New_York:20221119T080000
DTEND;TZID=America/New_York:20221120T170000
DTSTAMP:20260419T160939
CREATED:20211211T042003Z
LAST-MODIFIED:20211211T042003Z
UID:1217-1668844800-1668963600@beyondopenwater.com
SUMMARY:PADI IE
DESCRIPTION:
URL:https://beyondopenwater.com/event/padi-ie-4/
END:VEVENT
END:VCALENDAR