BEGIN:VCALENDAR
VERSION:2.0
PRODID:-//Beyond Open Water - ECPv4.6.11.1//NONSGML v1.0//EN
CALSCALE:GREGORIAN
METHOD:PUBLISH
X-WR-CALNAME:Beyond Open Water
X-ORIGINAL-URL:https://beyondopenwater.com
X-WR-CALDESC:Events for Beyond Open Water
BEGIN:VEVENT
DTSTART;TZID=America/New_York:20220612T130000
DTEND;TZID=America/New_York:20220615T170000
DTSTAMP:20260419T174219
CREATED:20220223T051326Z
LAST-MODIFIED:20220223T051347Z
UID:1400-1655038800-1655312400@beyondopenwater.com
SUMMARY:No Training (x)
DESCRIPTION:
URL:https://beyondopenwater.com/event/no-training-x/
END:VEVENT
END:VCALENDAR