BEGIN:VCALENDAR
VERSION:2.0
PRODID:-//Beyond Open Water - ECPv4.6.11.1//NONSGML v1.0//EN
CALSCALE:GREGORIAN
METHOD:PUBLISH
X-WR-CALNAME:Beyond Open Water
X-ORIGINAL-URL:https://beyondopenwater.com
X-WR-CALDESC:Events for Beyond Open Water
BEGIN:VEVENT
DTSTART;TZID=America/New_York:20220404T080000
DTEND;TZID=America/New_York:20220408T170000
DTSTAMP:20260419T191533
CREATED:20220223T051147Z
LAST-MODIFIED:20220223T051147Z
UID:1398-1649059200-1649437200@beyondopenwater.com
SUMMARY:No Training (MW)
DESCRIPTION:
URL:https://beyondopenwater.com/event/no-training-mw/
END:VEVENT
END:VCALENDAR