BEGIN:VCALENDAR
VERSION:2.0
PRODID:-//Beyond Open Water - ECPv4.6.11.1//NONSGML v1.0//EN
CALSCALE:GREGORIAN
METHOD:PUBLISH
X-WR-CALNAME:Beyond Open Water
X-ORIGINAL-URL:https://beyondopenwater.com
X-WR-CALDESC:Events for Beyond Open Water
BEGIN:VEVENT
DTSTART;VALUE=DATE:20220905
DTEND;VALUE=DATE:20220906
DTSTAMP:20260420T002248
CREATED:20220902T023135Z
LAST-MODIFIED:20220902T023135Z
UID:1579-1662336000-1662422399@beyondopenwater.com
SUMMARY:No Dive/Holiday
DESCRIPTION:
URL:https://beyondopenwater.com/event/no-dive-holiday/
END:VEVENT
END:VCALENDAR