BEGIN:VCALENDAR
VERSION:2.0
PRODID:-//Beyond Open Water - ECPv4.6.11.1//NONSGML v1.0//EN
CALSCALE:GREGORIAN
METHOD:PUBLISH
X-WR-CALNAME:Beyond Open Water
X-ORIGINAL-URL:https://beyondopenwater.com
X-WR-CALDESC:Events for Beyond Open Water
BEGIN:VEVENT
DTSTART;TZID=Pacific/Honolulu:20221021T173000
DTEND;TZID=Pacific/Honolulu:20221021T203000
DTSTAMP:20260419T192611
CREATED:20221003T151602Z
LAST-MODIFIED:20221003T151602Z
UID:1625-1666373400-1666384200@beyondopenwater.com
SUMMARY:NightDive Fireworks
DESCRIPTION:
URL:https://beyondopenwater.com/event/nightdive-fireworks/
END:VEVENT
END:VCALENDAR