BEGIN:VCALENDAR
VERSION:2.0
PRODID:-//Beyond Open Water - ECPv4.6.11.1//NONSGML v1.0//EN
CALSCALE:GREGORIAN
METHOD:PUBLISH
X-WR-CALNAME:Beyond Open Water
X-ORIGINAL-URL:https://beyondopenwater.com
X-WR-CALDESC:Events for Beyond Open Water
BEGIN:VEVENT
DTSTART;TZID=America/New_York:20160406T173000
DTEND;TZID=America/New_York:20160406T183000
DTSTAMP:20260421T000917
CREATED:20160329T230855Z
LAST-MODIFIED:20160329T231226Z
UID:723-1459963800-1459967400@beyondopenwater.com
SUMMARY:Meeting with Ali
DESCRIPTION:
URL:https://beyondopenwater.com/event/meeting-with-ali/
LOCATION:214 Dominion Rd. NE \, Vienna\, VA\, 22180\, United States
END:VEVENT
END:VCALENDAR