BEGIN:VCALENDAR
VERSION:2.0
PRODID:-//Beyond Open Water - ECPv4.6.11.1//NONSGML v1.0//EN
CALSCALE:GREGORIAN
METHOD:PUBLISH
X-WR-CALNAME:Beyond Open Water
X-ORIGINAL-URL:https://beyondopenwater.com
X-WR-CALDESC:Events for Beyond Open Water
BEGIN:VEVENT
DTSTART;TZID=America/New_York:20160110T130000
DTEND;TZID=America/New_York:20160110T140000
DTSTAMP:20260421T054329
CREATED:20160105T235315Z
LAST-MODIFIED:20160105T235315Z
UID:604-1452430800-1452434400@beyondopenwater.com
SUMMARY:Meeting (Bob)
DESCRIPTION:
URL:https://beyondopenwater.com/event/meeting-bob/
LOCATION:214 Dominion Rd. NE \, Vienna\, VA\, 22180\, United States
END:VEVENT
END:VCALENDAR