BEGIN:VCALENDAR
VERSION:2.0
PRODID:-//Beyond Open Water - ECPv4.6.11.1//NONSGML v1.0//EN
CALSCALE:GREGORIAN
METHOD:PUBLISH
X-WR-CALNAME:Beyond Open Water
X-ORIGINAL-URL:https://beyondopenwater.com
X-WR-CALDESC:Events for Beyond Open Water
BEGIN:VEVENT
DTSTART;TZID=America/New_York:20160229T170000
DTEND;TZID=America/New_York:20160229T200000
DTSTAMP:20260421T033954
CREATED:20160229T015859Z
LAST-MODIFIED:20160229T015945Z
UID:714-1456765200-1456776000@beyondopenwater.com
SUMMARY:Meeting at Sterling
DESCRIPTION:
URL:https://beyondopenwater.com/event/meeting-at-sterling/
END:VEVENT
END:VCALENDAR