BEGIN:VCALENDAR
VERSION:2.0
PRODID:-//Beyond Open Water - ECPv4.6.11.1//NONSGML v1.0//EN
CALSCALE:GREGORIAN
METHOD:PUBLISH
X-WR-CALNAME:Beyond Open Water
X-ORIGINAL-URL:https://beyondopenwater.com
X-WR-CALDESC:Events for Beyond Open Water
BEGIN:VEVENT
DTSTART;TZID=America/New_York:20160113T173000
DTEND;TZID=America/New_York:20160113T190000
DTSTAMP:20260421T035722
CREATED:20160108T014734Z
LAST-MODIFIED:20160108T204605Z
UID:609-1452706200-1452711600@beyondopenwater.com
SUMMARY:Meeting at Fairfax
DESCRIPTION:Stephanie \n
URL:https://beyondopenwater.com/event/meeting-at-fairfax/
LOCATION:214 Dominion Rd. NE \, Vienna\, VA\, 22180\, United States
END:VEVENT
END:VCALENDAR