BEGIN:VCALENDAR
VERSION:2.0
PRODID:-//Beyond Open Water - ECPv4.6.11.1//NONSGML v1.0//EN
CALSCALE:GREGORIAN
METHOD:PUBLISH
X-WR-CALNAME:Beyond Open Water
X-ORIGINAL-URL:https://beyondopenwater.com
X-WR-CALDESC:Events for Beyond Open Water
BEGIN:VEVENT
DTSTART;TZID=America/New_York:20230509T080000
DTEND;TZID=America/New_York:20230511T120000
DTSTAMP:20260421T101343
CREATED:20230419T045048Z
LAST-MODIFIED:20230419T045048Z
UID:1955-1683619200-1683806400@beyondopenwater.com
SUMMARY:Matt
DESCRIPTION:
URL:https://beyondopenwater.com/event/matt/
END:VEVENT
END:VCALENDAR