BEGIN:VCALENDAR
VERSION:2.0
PRODID:-//Beyond Open Water - ECPv4.6.11.1//NONSGML v1.0//EN
CALSCALE:GREGORIAN
METHOD:PUBLISH
X-WR-CALNAME:Beyond Open Water
X-ORIGINAL-URL:https://beyondopenwater.com
X-WR-CALDESC:Events for Beyond Open Water
BEGIN:VEVENT
DTSTART;VALUE=DATE:20170520
DTEND;VALUE=DATE:20170522
DTSTAMP:20260420T062241
CREATED:20170215T001255Z
LAST-MODIFIED:20170215T001255Z
UID:935-1495238400-1495411199@beyondopenwater.com
SUMMARY:IDC/OWSI
DESCRIPTION:
URL:https://beyondopenwater.com/event/idcowsi-2/
END:VEVENT
END:VCALENDAR