BEGIN:VCALENDAR
VERSION:2.0
PRODID:-//Beyond Open Water - ECPv4.6.11.1//NONSGML v1.0//EN
CALSCALE:GREGORIAN
METHOD:PUBLISH
X-WR-CALNAME:Beyond Open Water
X-ORIGINAL-URL:https://beyondopenwater.com
X-WR-CALDESC:Events for Beyond Open Water
BEGIN:VEVENT
DTSTART;TZID=America/New_York:20220909T080000
DTEND;TZID=America/New_York:20220909T170000
DTSTAMP:20260420T021519
CREATED:20220829T045210Z
LAST-MODIFIED:20220829T045210Z
UID:1541-1662710400-1662742800@beyondopenwater.com
SUMMARY:IDC
DESCRIPTION:\n\n\n\n\n\nSkills Workshop (and swim/tread)\n2+\n\n\nCW Workshop\n1.5\n\n\nKD workshop\n2\n\n\n\n
URL:https://beyondopenwater.com/event/idc/
END:VEVENT
END:VCALENDAR