BEGIN:VCALENDAR
VERSION:2.0
PRODID:-//Beyond Open Water - ECPv4.6.11.1//NONSGML v1.0//EN
CALSCALE:GREGORIAN
METHOD:PUBLISH
X-WR-CALNAME:Beyond Open Water
X-ORIGINAL-URL:https://beyondopenwater.com
X-WR-CALDESC:Events for Beyond Open Water
BEGIN:VEVENT
DTSTART;TZID=America/New_York:20160221T090000
DTEND;TZID=America/New_York:20160221T130000
DTSTAMP:20260421T021013
CREATED:20151230T150334Z
LAST-MODIFIED:20151230T150709Z
UID:600-1456045200-1456059600@beyondopenwater.com
SUMMARY:IDC Staff Refresher
DESCRIPTION:Open to all IDC Staff instructor and those that would like to be IDC Staff. \nWe will review evaluation criteria\, how to teach an AI class and how to integrate learning as well as new skills. \n  \n
URL:https://beyondopenwater.com/event/idc-staff-refresher/
LOCATION:Sterling
ORGANIZER;CN="Kevin%20Davenport":MAILTO:training@beyondopenwater.com
END:VEVENT
END:VCALENDAR