BEGIN:VCALENDAR
VERSION:2.0
PRODID:-//Beyond Open Water - ECPv4.6.11.1//NONSGML v1.0//EN
CALSCALE:GREGORIAN
METHOD:PUBLISH
X-WR-CALNAME:Beyond Open Water
X-ORIGINAL-URL:https://beyondopenwater.com
X-WR-CALDESC:Events for Beyond Open Water
BEGIN:VEVENT
DTSTART;TZID=America/New_York:20160415T180000
DTEND;TZID=America/New_York:20160417T180000
DTSTAMP:20260420T221348
CREATED:20151218T010019Z
LAST-MODIFIED:20151227T231125Z
UID:556-1460743200-1460916000@beyondopenwater.com
SUMMARY:IDC Staff Class
DESCRIPTION:Class-$400\nCourse Director manual $310ish\nApplication Fee $115\nYou will need a signed medical. \nThere are:\n5 presentation I give.\nSkills evaluation\nIDC Exams to take\nEvaluation training may require a few extra nights&#8230;.just considers.\nThen either you do a few presentations or staff a full IDC. \n
URL:https://beyondopenwater.com/event/idc-staff-class/
LOCATION:Sterling
END:VEVENT
END:VCALENDAR