BEGIN:VCALENDAR
VERSION:2.0
PRODID:-//Beyond Open Water - ECPv4.6.11.1//NONSGML v1.0//EN
CALSCALE:GREGORIAN
METHOD:PUBLISH
X-WR-CALNAME:Beyond Open Water
X-ORIGINAL-URL:https://beyondopenwater.com
X-WR-CALDESC:Events for Beyond Open Water
BEGIN:VEVENT
DTSTART;TZID=America/New_York:20170311T080000
DTEND;TZID=America/New_York:20170312T170000
DTSTAMP:20260422T082900
CREATED:20170206T010922Z
LAST-MODIFIED:20170206T010922Z
UID:928-1489219200-1489338000@beyondopenwater.com
SUMMARY:IDC Staff Class
DESCRIPTION:
URL:https://beyondopenwater.com/event/idc-staff-class-2/
LOCATION:Sterling
END:VEVENT
END:VCALENDAR