BEGIN:VCALENDAR
VERSION:2.0
PRODID:-//Beyond Open Water - ECPv4.6.11.1//NONSGML v1.0//EN
CALSCALE:GREGORIAN
METHOD:PUBLISH
X-WR-CALNAME:Beyond Open Water
X-ORIGINAL-URL:https://beyondopenwater.com
X-WR-CALDESC:Events for Beyond Open Water
BEGIN:VEVENT
DTSTART;TZID=America/New_York:20220918T080000
DTEND;TZID=America/New_York:20220918T150000
DTSTAMP:20260419T223134
CREATED:20220829T050322Z
LAST-MODIFIED:20220829T050322Z
UID:1560-1663488000-1663513200@beyondopenwater.com
SUMMARY:IDC
DESCRIPTION:\n\n\n\n\n\nRescue Diver Course Workshop\n3\n\n\nRescue Assessmsnt\n1\n\n\nConfined Water Presentations – Wet 4\n2\n\n\n\n
URL:https://beyondopenwater.com/event/idc-8/
END:VEVENT
END:VCALENDAR