BEGIN:VCALENDAR
VERSION:2.0
PRODID:-//Beyond Open Water - ECPv4.6.11.1//NONSGML v1.0//EN
CALSCALE:GREGORIAN
METHOD:PUBLISH
X-WR-CALNAME:Beyond Open Water
X-ORIGINAL-URL:https://beyondopenwater.com
X-WR-CALDESC:Events for Beyond Open Water
BEGIN:VEVENT
DTSTART;TZID=America/New_York:20220916T170000
DTEND;TZID=America/New_York:20220916T190000
DTSTAMP:20260420T020232
CREATED:20220829T045731Z
LAST-MODIFIED:20220829T045731Z
UID:1552-1663347600-1663354800@beyondopenwater.com
SUMMARY:IDC
DESCRIPTION:\n\n\n\n\n\nDive Theory Workshop\n2\n\n\n\n
URL:https://beyondopenwater.com/event/idc-6/
END:VEVENT
END:VCALENDAR