BEGIN:VCALENDAR
VERSION:2.0
PRODID:-//Beyond Open Water - ECPv4.6.11.1//NONSGML v1.0//EN
CALSCALE:GREGORIAN
METHOD:PUBLISH
X-WR-CALNAME:Beyond Open Water
X-ORIGINAL-URL:https://beyondopenwater.com
X-WR-CALDESC:Events for Beyond Open Water
BEGIN:VEVENT
DTSTART;TZID=America/New_York:20220910T080000
DTEND;TZID=America/New_York:20220910T170000
DTSTAMP:20260420T035140
CREATED:20220829T045259Z
LAST-MODIFIED:20220829T045259Z
UID:1544-1662796800-1662829200@beyondopenwater.com
SUMMARY:IDC
DESCRIPTION:\n\n\n\n\n\nConfined Water Teaching Presentation\n2\n\n\nConfined Water Teaching Presentation – Wet 1\n2\n\n\nDSD Workshop – briefing and confined water\n1\n\n\nOpen Water Training Workshop\n1.5\n\n\n\n
URL:https://beyondopenwater.com/event/idc-2/
END:VEVENT
END:VCALENDAR