BEGIN:VCALENDAR
VERSION:2.0
PRODID:-//Beyond Open Water - ECPv4.6.11.1//NONSGML v1.0//EN
CALSCALE:GREGORIAN
METHOD:PUBLISH
X-WR-CALNAME:Beyond Open Water
X-ORIGINAL-URL:https://beyondopenwater.com
X-WR-CALDESC:Events for Beyond Open Water
BEGIN:VEVENT
DTSTART;TZID=America/New_York:20230128T073000
DTEND;TZID=America/New_York:20230128T150000
DTSTAMP:20260419T124149
CREATED:20221125T045732Z
LAST-MODIFIED:20221125T045732Z
UID:1751-1674891000-1674918000@beyondopenwater.com
SUMMARY:IDC
DESCRIPTION:\n\n\n\n\n\nSkills Workshop (and swim/tread)\n2\n\n\nConfined Water Teaching Presentation dry\n2\n\n\nConfined Water Teaching Presentation – Wet 1\,2\n2\n\n\nDSD Workshop – briefing and confined water\n1\n\n\n\n
URL:https://beyondopenwater.com/event/idc-17/
END:VEVENT
END:VCALENDAR