BEGIN:VCALENDAR
VERSION:2.0
PRODID:-//Beyond Open Water - ECPv4.6.11.1//NONSGML v1.0//EN
CALSCALE:GREGORIAN
METHOD:PUBLISH
X-WR-CALNAME:Beyond Open Water
X-ORIGINAL-URL:https://beyondopenwater.com
X-WR-CALDESC:Events for Beyond Open Water
BEGIN:VEVENT
DTSTART;TZID=America/New_York:20230115T080000
DTEND;TZID=America/New_York:20230115T170000
DTSTAMP:20260419T155636
CREATED:20230117T052236Z
LAST-MODIFIED:20230117T052236Z
UID:1811-1673769600-1673802000@beyondopenwater.com
SUMMARY:IDC
DESCRIPTION:
URL:https://beyondopenwater.com/event/idc-15/
END:VEVENT
END:VCALENDAR