BEGIN:VCALENDAR
VERSION:2.0
PRODID:-//Beyond Open Water - ECPv4.6.11.1//NONSGML v1.0//EN
CALSCALE:GREGORIAN
METHOD:PUBLISH
X-WR-CALNAME:Beyond Open Water
X-ORIGINAL-URL:https://beyondopenwater.com
X-WR-CALDESC:Events for Beyond Open Water
BEGIN:VEVENT
DTSTART;TZID=America/New_York:20230204T073000
DTEND;TZID=America/New_York:20230204T160000
DTSTAMP:20260421T101516
CREATED:20221125T045113Z
LAST-MODIFIED:20221125T045127Z
UID:1740-1675495800-1675526400@beyondopenwater.com
SUMMARY:IDC
DESCRIPTION:\n\n\n\n\n\nCW Presentation 3 & 4/Skill remediation\n4\n\n\nRescue Diver Course Workshop 3\n3\n\n\n\n
URL:https://beyondopenwater.com/event/idc-12/
END:VEVENT
END:VCALENDAR