BEGIN:VCALENDAR
VERSION:2.0
PRODID:-//Beyond Open Water - ECPv4.6.11.1//NONSGML v1.0//EN
CALSCALE:GREGORIAN
METHOD:PUBLISH
X-WR-CALNAME:Beyond Open Water
X-ORIGINAL-URL:https://beyondopenwater.com
X-WR-CALDESC:Events for Beyond Open Water
BEGIN:VEVENT
DTSTART;TZID=America/New_York:20160521T080000
DTEND;TZID=America/New_York:20160522T170000
DTSTAMP:20260420T230637
CREATED:20160508T005329Z
LAST-MODIFIED:20160508T005410Z
UID:757-1463817600-1463936400@beyondopenwater.com
SUMMARY:Fundamentals Of Technical Diving
DESCRIPTION:Saturday-Classroom at Sterling \nSunday-Pool at Claude Moore. \n
URL:https://beyondopenwater.com/event/fundamentals-of-technical-diving/
ATTACH;FMTTYPE=image/bmp:https://beyondopenwater.com/wp-content/uploads/2015/12/DSAT.bmp
END:VEVENT
END:VCALENDAR