BEGIN:VCALENDAR
VERSION:2.0
PRODID:-//Beyond Open Water - ECPv4.6.11.1//NONSGML v1.0//EN
CALSCALE:GREGORIAN
METHOD:PUBLISH
X-WR-CALNAME:Beyond Open Water
X-ORIGINAL-URL:https://beyondopenwater.com
X-WR-CALDESC:Events for Beyond Open Water
BEGIN:VEVENT
DTSTART;TZID=UTC-10:20211216T070000
DTEND;TZID=UTC-10:20211216T103000
DTSTAMP:20260419T211908
CREATED:20211210T004343Z
LAST-MODIFIED:20211210T004343Z
UID:1195-1639638000-1639650600@beyondopenwater.com
SUMMARY:Fun Dive
DESCRIPTION:
URL:https://beyondopenwater.com/event/fun-dive/
END:VEVENT
END:VCALENDAR