BEGIN:VCALENDAR
VERSION:2.0
PRODID:-//Beyond Open Water - ECPv4.6.11.1//NONSGML v1.0//EN
CALSCALE:GREGORIAN
METHOD:PUBLISH
X-WR-CALNAME:Beyond Open Water
X-ORIGINAL-URL:https://beyondopenwater.com
X-WR-CALDESC:Events for Beyond Open Water
BEGIN:VEVENT
DTSTART;TZID=America/New_York:20220827T070000
DTEND;TZID=America/New_York:20220827T103000
DTSTAMP:20260420T004233
CREATED:20220813T192104Z
LAST-MODIFIED:20220813T192104Z
UID:1477-1661583600-1661596200@beyondopenwater.com
SUMMARY:Fun Dive W/Ruckus Sportfishing and Diving
DESCRIPTION:
URL:https://beyondopenwater.com/event/fun-dive-w-ruckus-sportfishing-and-diving/
END:VEVENT
END:VCALENDAR