BEGIN:VCALENDAR
VERSION:2.0
PRODID:-//Beyond Open Water - ECPv4.6.11.1//NONSGML v1.0//EN
CALSCALE:GREGORIAN
METHOD:PUBLISH
X-WR-CALNAME:Beyond Open Water
X-ORIGINAL-URL:https://beyondopenwater.com
X-WR-CALDESC:Events for Beyond Open Water
BEGIN:VEVENT
DTSTART;TZID=America/New_York:20211229T070000
DTEND;TZID=America/New_York:20211229T103000
DTSTAMP:20260419T185938
CREATED:20211210T004944Z
LAST-MODIFIED:20211210T010047Z
UID:1200-1640761200-1640773800@beyondopenwater.com
SUMMARY:Fun Dive
DESCRIPTION:
URL:https://beyondopenwater.com/event/fun-dive-3/
END:VEVENT
END:VCALENDAR