BEGIN:VCALENDAR
VERSION:2.0
PRODID:-//Beyond Open Water - ECPv4.6.11.1//NONSGML v1.0//EN
CALSCALE:GREGORIAN
METHOD:PUBLISH
X-WR-CALNAME:Beyond Open Water
X-ORIGINAL-URL:https://beyondopenwater.com
X-WR-CALDESC:Events for Beyond Open Water
BEGIN:VEVENT
DTSTART;TZID=America/New_York:20161119T073000
DTEND;TZID=America/New_York:20161119T170000
DTSTAMP:20260420T152355
CREATED:20161117T002230Z
LAST-MODIFIED:20161117T002230Z
UID:826-1479540600-1479574800@beyondopenwater.com
SUMMARY:Full Face Mask
DESCRIPTION:
URL:https://beyondopenwater.com/event/full-face-mask/
LOCATION:2067 Jasontown Rd\,\, Westminster\, MD\, 21158\, United States
END:VEVENT
END:VCALENDAR