BEGIN:VCALENDAR
VERSION:2.0
PRODID:-//Beyond Open Water - ECPv4.6.11.1//NONSGML v1.0//EN
CALSCALE:GREGORIAN
METHOD:PUBLISH
X-WR-CALNAME:Beyond Open Water
X-ORIGINAL-URL:https://beyondopenwater.com
X-WR-CALDESC:Events for Beyond Open Water
BEGIN:VEVENT
DTSTART;VALUE=DATE:20160408
DTEND;VALUE=DATE:20160412
DTSTAMP:20260421T000235
CREATED:20160123T151640Z
LAST-MODIFIED:20160123T151640Z
UID:616-1460073600-1460419199@beyondopenwater.com
SUMMARY:Florida Springs
DESCRIPTION:Blue Grotto and Devil&#8217;s Den \n
URL:https://beyondopenwater.com/event/florida-springs/
END:VEVENT
END:VCALENDAR