BEGIN:VCALENDAR
VERSION:2.0
PRODID:-//Beyond Open Water - ECPv4.6.11.1//NONSGML v1.0//EN
CALSCALE:GREGORIAN
METHOD:PUBLISH
X-WR-CALNAME:Beyond Open Water
X-ORIGINAL-URL:https://beyondopenwater.com
X-WR-CALDESC:Events for Beyond Open Water
BEGIN:VEVENT
DTSTART;VALUE=DATE:20160115
DTEND;VALUE=DATE:20160119
DTSTAMP:20260421T053548
CREATED:20151218T003652Z
LAST-MODIFIED:20151218T003652Z
UID:551-1452816000-1453161599@beyondopenwater.com
SUMMARY:Florida Springs Trip
DESCRIPTION:We will dive 2 days.  One at Blue Grotto and one day at Devil&#8217;s Den. \n
URL:https://beyondopenwater.com/event/florida-springs-trip/
END:VEVENT
END:VCALENDAR